Workbook

Sheet Data
A1: Filter Systems | B1: Multi-Pure | E1: Brita
A3: Efficiency:
A4: Estimate Fuel Efficiency from Air Transportation | B4: 52.1 | C4: miles/gallon****** | E4: 52.1 | F4: miles/gallon******
A5: Estimate Fuel Efficiency from Ground Transportation | B5: 10 | C5: miles/gallon***** | E5: 10 | F5: miles/gallon*****
A6: Estimate Fuel Efficiency from Ocean Transport | B6: N/A | C6: miles/gallon******* | E6: 44 | F6: miles/gallon*******
A7: Distance traveled:
A8: Distance Ocean Transport | B8: 0 | C8: miles | E8: 6914 | F8: miles | I8: Multi-pure | J8: Brita
A9: Distance Air Transport | B9: 420 | C9: miles**** | E9: 647 | F9: miles**** | H9: CO2 to Recycle | J9: =(($E$17/$E$16)*$E$18*$B$45*(1/$E$4)*$E$33) -> 599.30861
A10: Distance Ground Transport | B10: 279 | C10: miles**** | E10: 1023 | F10: miles**** | H10: CO2 to Landfill | I10: =(($E$14/$E$13)*$E$15*$B$45*(1/$E$5)*$E$31) -> 187.10472 | J10: =(($B$14/$B$13)*$B$15*$B$45*(1/$B$5)*$B$34) -> 187.10472
A11: Total Distance Traveled | B11: =B9+B10 -> 699 | C11: miles**** | E11: =E9+E10 -> 1670 | F11: miles****
A12: Fuels:
A13: Molecular Weight of Diesel Fuel********† | B13: 170 | C13: g (diesel) | E13: 170 | F13: g (diesel)
A14: Associated CO2 | B14: 528 | C14: g (CO2) | E14: 528 | F14: g (CO2)
A15: Density of diesel | B15: 850 | C15: Kg/m^3 ‡ | E15: 850 | F15: Kg/m^3 ‡
A16: Molecular Weight of Jet Fuel*********†† | B16: 167 | C16: g (jet) | E16: 167 | F16: g (jet)
A17: Associated CO2 | B17: 528 | C17: g (CO2) | E17: 528 | F17: g (CO2)
A18: Density of jet fuel | B18: 811 | C18: Kg/m^3 ‡ ‡ | E18: 811 | F18: Kg/m^3 ‡ ‡
A19: Molecular weight of fuel oil**********†† | B19: N/A | E19: 282 | F19: g (oil)
A20: Associated CO2 | B20: N/A | E20: 880 | F20: g (CO2)
A21: Density of fuel oil | B21: N/A | E21: 784 | F21: Kg/m^3 ‡ ‡‡
A22: CO2 release (transport):
A23: Carbon Dioxide Released from Air Transport | B23: =((B17/B16)*B18*B45*(1/B4)*B9) -> 78.340995 | C23: Kg CO2 | E23: =((E17/E16)*E18*B45*(1/E4)*E9) -> 120.68244 | F23: Kg CO2
A24: Carbon Dioxide Released from Ocean Transport | B24: 0 | E24: =((E20/E19)*E21*B45*(1/E6)*E8) -> 1457.0201 | F24: Kg CO2
A25: Carbon Dioxide Released from Ground | B25: =((B14/B13)*B15*B45*(1/B5)*B10) -> 279.15624 | C25: Kg CO2 | E25: =((E14/E13)*E15*B45*(1/E5)*E10) -> 1023.5729 | F25: Kg CO2
A26: Total Carbon Dioxide Released | B26: =B23+B24+B25 -> 357.49723 | C26: Kg CO2 | E26: =E23+E24+E25 -> 2601.2754 | F26: Kg CO2
A27: Elemental Carbon Released | B27: =B26*B46 -> 107.24917 | C27: Kg C | E27: =E26*B46 -> 780.38262 | F27: Kg C
A28: Disposal of Product:
A29: Filter Recyclable | B29: No | E29: Yes, as of 01/01/2009
A30: Housing Recyclable | B30: No | E30: Yes, as of 01/01/2009
A31: Distance to Landfill | B31: 187 | C31: miles | E31: 187 | F31: miles
A32: Estimated Recycled | B32: 0 | C32: percent | E32: 0.8 | F32: percent*******
A33: Distance to recycle | B33: 0 | C33: miles | E33: 3213 | F33: miles
A34: Total Distance for Disposal | B34: 187 | C34: miles | E34: 3400.8 | F34: miles
A35: Population of Arcata | B35: 17021 | C35: people | E35: 17021 | F35: people
A36: Total People Who Will Recycle | B36: 0 | C36: people | E36: 13616.8 | F36: people
A37: Total Carbon Dioxide Disposal, by truck | B37: =(($B$14/$B$13)*$B$15*$B$45*(1/$B$5)*$B$34) -> 187.10472 | C37: Kg CO2 | E37: =(($E$14/$E$13)*$E$15*$B$45*(1/$E$5)*$E$31) -> 187.10472 | F37: Kg CO2
A38: Total Carbon Dioxide Recycle, by plane | B38: 0 | E38: =(($E$17/$E$16)*$E$18*$B$45*(1/$E$4)*$E$33) -> 599.30861 | F38: Kg CO2
A39: Total CO2 for disposal | B39: =B37+B38 -> 187.10472 | C39: KG CO2 | E39: =E37+E38 -> 786.41333 | F39: KG CO2
A40: Total Elemental Carbon Released for Disposal | B40: =B37*B46 -> 56.131416 | C40: Kg C | E40: =E39*B46 -> 235.924 | F40: Kg C
A41: Total CO2 for product: | B41: =B37+B26 -> 544.60195 | C41: Kg CO2 | E41: =E39+E26 -> 3387.6887 | F41: KG CO2
...

Sheet Disposal Distance
A1: Multi-Pure Aqua Dome | E1: Brita
A2: Recycle | E2: Recycle
A3: Distance | B3: 1 | C3: miles/filter | E3: Distance | F3: 3213 | G3: miles/filter
A4: How often Needed | B4: 1 | C4: gallons/year | E4: How often Needed | F4: 300 | G4: gallons/year
A5: Gallons/filter | B5: 1 | C5: gallons/year | E5: Gallons/filter | F5: 100 | G5: gallons/filter
A6: Amount Recycled | B6: 0 | C6: percent | E6: Amount Recycled | F6: 0.8 | G6: percent
A7: Miles per Year to recycle | B7: =B3*B4*B6/B5 -> 0 | C7: year | E7: Miles per Year to recycle | F7: =F3*F4*F6/F5 -> 7711.2 | G7: year
A9: Landfill | E9: Landfill
A10: Distance | B10: 187 | C10: miles/filter | E10: Distance | F10: 187 | G10: miles/filter
A11: How often Needed | B11: 750 | C11: gallons/year | E11: How often Needed | F11: 300 | G11: gallons/year
A12: Gallons/filter | B12: 750 | C12: gallons/filter | E12: Gallons/filter | F12: 100 | G12: gallons/filter
A13: Amount Landfilled | B13: =100%-B6 -> 1 | C13: percent | E13: Amount Landfilled | F13: =100%-F6 -> 0.2 | G13: percent
A14: Miles per Year to Landfill | B14: =B10*B11*B13/B12 -> 187 | C14: year | E14: Miles per Year to Landfill | F14: =F10*F11*F13/F12 -> 112.2 | G14: year
B16: Multi-Pure | C16: Brita
A17: Recycling | B17: =B7 -> 0 | C17: =F7 -> 7711.2
A18: Landfill | B18: =B14 -> 187 | C18: =F14 -> 112.2
A19: * This chart is a summary of the ones above. To manipulate the graph edit the numbers that are the same color as the graph

Sheet some changes - change much more
A1: Multi-Pure | C1: Brita
A2: Percent chance you recycle | B2: 1 | C2: Percent chance you recycle | D2: 0.75 | F2: Fly if more than | G2: Ground when flying
A3: Your distance from Multi-Pure Recycling *currently there is no recycling | B3: #N/A | C3: Your distance from Massachusetts | D3: 3213 | F3: 500 | G3: 100 | H3: miles
A4: Your distance from Landfill | B4: 500 | C4: Your distance from Landfill | D4: 500
A5: Your distance from Vegas | B5: 800 | C5: Your distance from Oakland | D5: 300
A8: Jets | D8: Trucks | G8: Boats
A9: Jet fuel CO2 | B9: =Data!B17/Data!B16 -> 3.1616766 | C9: g CO2 / g Fuel | D9: Truck CO2 | E9: =Data!B15/Data!B14 -> 1.6098485 | F9: g CO2/ g Fuel | G9: Boat CO2 | H9: =Data!E21/Data!E20 -> 0.89090909 | I9: g CO2/ g Fuel
A10: Density of jet fuel | B10: =Data!B18 -> 811 | C10: Kg/m^3 ‡ ‡ | D10: Density of diesel | E10: 850 | F10: Kg/m^3 ‡ | G10: Density of Fuel | H10: =Data!E21 -> 784 | I10: Kg/m^3 ‡
A11: Estimate gas mileage | B11: =Data!B4 -> 52.1 | C11: miles/gallon****** | D11: Estimate gas mileage | E11: 10 | F11: miles/gallon***** | G11: Estimate gas mileage | H11: =Data!E6 -> 44 | I11: miles/gallon*****
A13: Multi-Pure Aqua Dome | D13: Brita
A14: Multi-Pure Recycling | D14: Brita Recycling
A15: Ground Distance to recycle | B15: =IF(B3>F3,G3,B3) -> #N/A | C15: miles | D15: Ground Distance to recycle | E15: =IF(D3>F3,G3,D3) -> 100 | F15: miles
A16: Air Distance to recycle | B16: =IF(B3>F3,B3-G3,0) -> #N/A | C16: miles | D16: Air Distance to recycle | E16: =IF(D3>F3,D3-G3,0) -> 3113 | F16: miles
A17: C02 | B17: =B16/B11*Data!B45*B10*B9 -> #N/A | C17: kg CO2 | D17: C02 | E17: =E16/B11*Data!B45*B10*B9+E15/E11*Data!B45*E10*E9 -> 632.51726 | F17: kg CO2
A18: CO2 based on percent Recyceld | B18: =B2*B17 -> #N/A | D18: CO2 based on percent Recycled | E18: =D2*E17 -> 474.38795 | F18: kg CO2
A20: Multi-Pure Landfill | D20: Brita Landfill
A21: CO2 | B21: =(B22/E11)*(Data!B45)*E10*E9 -> 259.30634 | C21: g (CO2) | D21: CO2 | E21: =(E22/E11)*(Data!B45)*E10*E9 -> 259.30634 | F21: kg (CO2)
A22: Distance to Landfill | B22: =B4 -> 500 | C22: miles | D22: Distance to Landfill | E22: =B4 -> 500 | F22: miles
A23: CO2 based on percent Landfilled | B23: =B21*(1-A2) -> #VALUE! | C23: kg (CO2) | D23: CO2 based on percent Landfilled | E23: =E21*(1-D2) -> 64.826586 | F23: kg (CO2)
B25: Multi-pure | C25: Brita
A26: CO2 to Recycle | B26: ='some changes - change much more'!B3 -> #N/A | C26: =E18 -> 474.38795
A27: CO2 to Landfill | B27: =B21 -> 259.30634 | C27: =E23 -> 64.826586
A28: CO2 to Transport | B28: =B36 -> 182.42959 | C28: =E36 -> 571.55702
A29: * This chart is a summary of the ones above. To manipulate the graph edit the numbers above.
A31: Multi-Pure Aqua Dome | D31: Brita
A32: Multi-Pure Transportation | D32: Brita Transportation
A33: Ground Distance to transport | B33: =IF(B5>F3,G3,B5) -> 100 | C33: miles | D33: Ground Distance to transport | E33: =IF(D5>F3,G3,D5) -> 300 | F33: miles
A34: Air Distance to transport | B34: =IF(B5>F3,B5-G3,0) -> 700 | C34: miles | D34: Air Distance to transport | E34: =IF(D5>F3,D5-G3,0) -> 0 | F34: miles
A35: Ocean Transport | B35: 0 | C35: miles | D35: Ocean Transport | E35: =Data!E8 -> 6914 | F35: miles
A36: C02 | B36: =B34/B11*Data!B45*B10*B9+B33/E11*Data!B45*E10*E9+B35/H11*Data!B45*H10*H9 -> 182.42959 | C36: kg CO2 | D36: C02 | E36: =E34/B11*Data!B45*B10*B9+E33/E11*Data!B45*E10*E9+E35/H11*Data!B45*H10*H9 -> 571.55702 | F36: kg CO2
A37: Distance to Transport | B37: =B35+B34+B33 -> 800 | C37: miles | D37: Distance to Transport | E37: =E35+E34+E33 -> 7214 | F37: miles

Sheet scratch sheet
A1: Brita
A2: Brita Recycling
A3: Molecular Weight of Jet Fuel*********†† | B3: 167 | C3: g (jet)
A4: Associated CO2 | B4: 528 | C4: g (CO2)
A5: Density of jet fuel | B5: 811 | C5: Kg/m^3 ‡ ‡
A6: Calculation | B6: 0.00379 | C6: m^3/gal
A7: Estimate Fuel Efficiency from Air Transportation | B7: 52.1 | C7: miles/gallon******
A8: Distance to recycle | B8: 3213 | C8: miles
A12: Jef Fuel CO2 | B12: =B4/B3 -> 3.1616766 | C12: g CO2/g fuel
A15: Percent you recycle: | B15: 0.5
A17: CO2 in Recycling Process | B17: 60 | C17: 60
A18: CO2 in Disposal Process | B18: 50 | C18: 70
B20: Brita | C20: MP
A21: Production | B21: 50 | C21: 70
A22: Recyling CO2 | B22: =$B$15*B17 -> 30 | C22: =$B$15*C17 -> 30
A23: Dispoal CO2 | B23: =(1-$B$15)*B18 -> 25 | C23: =(1-$B$15)*C18 -> 35
